BEGIN:VCALENDAR
VERSION:2.0
PRODID:-//M.O.R.T. - ECPv6.15.11//NONSGML v1.0//EN
CALSCALE:GREGORIAN
METHOD:PUBLISH
X-ORIGINAL-URL:https://mort-bend.com
X-WR-CALDESC:Događaji za M.O.R.T.
REFRESH-INTERVAL;VALUE=DURATION:PT1H
X-Robots-Tag:noindex
X-PUBLISHED-TTL:PT1H
BEGIN:VTIMEZONE
TZID:Europe/Zagreb
BEGIN:DAYLIGHT
TZOFFSETFROM:+0100
TZOFFSETTO:+0200
TZNAME:CEST
DTSTART:20180325T010000
END:DAYLIGHT
BEGIN:STANDARD
TZOFFSETFROM:+0200
TZOFFSETTO:+0100
TZNAME:CET
DTSTART:20181028T010000
END:STANDARD
BEGIN:DAYLIGHT
TZOFFSETFROM:+0100
TZOFFSETTO:+0200
TZNAME:CEST
DTSTART:20190331T010000
END:DAYLIGHT
BEGIN:STANDARD
TZOFFSETFROM:+0200
TZOFFSETTO:+0100
TZNAME:CET
DTSTART:20191027T010000
END:STANDARD
BEGIN:DAYLIGHT
TZOFFSETFROM:+0100
TZOFFSETTO:+0200
TZNAME:CEST
DTSTART:20200329T010000
END:DAYLIGHT
BEGIN:STANDARD
TZOFFSETFROM:+0200
TZOFFSETTO:+0100
TZNAME:CET
DTSTART:20201025T010000
END:STANDARD
BEGIN:DAYLIGHT
TZOFFSETFROM:+0100
TZOFFSETTO:+0200
TZNAME:CEST
DTSTART:20210328T010000
END:DAYLIGHT
BEGIN:STANDARD
TZOFFSETFROM:+0200
TZOFFSETTO:+0100
TZNAME:CET
DTSTART:20211031T010000
END:STANDARD
BEGIN:DAYLIGHT
TZOFFSETFROM:+0100
TZOFFSETTO:+0200
TZNAME:CEST
DTSTART:20220327T010000
END:DAYLIGHT
BEGIN:STANDARD
TZOFFSETFROM:+0200
TZOFFSETTO:+0100
TZNAME:CET
DTSTART:20221030T010000
END:STANDARD
BEGIN:DAYLIGHT
TZOFFSETFROM:+0100
TZOFFSETTO:+0200
TZNAME:CEST
DTSTART:20230326T010000
END:DAYLIGHT
BEGIN:STANDARD
TZOFFSETFROM:+0200
TZOFFSETTO:+0100
TZNAME:CET
DTSTART:20231029T010000
END:STANDARD
END:VTIMEZONE
BEGIN:VEVENT
DTSTART;TZID=Europe/Zagreb:20220728T000000
DTEND;TZID=Europe/Zagreb:20220728T235900
DTSTAMP:20260425T144955
CREATED:20240527T140546Z
LAST-MODIFIED:20240527T162715Z
UID:5366-1658966400-1659052740@mort-bend.com
SUMMARY:Rocklive
DESCRIPTION:
URL:https://mort-bend.com/koncert/rocklive/
LOCATION:Koprivnica
END:VEVENT
BEGIN:VEVENT
DTSTART;TZID=Europe/Zagreb:20220722T000000
DTEND;TZID=Europe/Zagreb:20220722T235900
DTSTAMP:20260425T144955
CREATED:20240527T140546Z
LAST-MODIFIED:20240527T162715Z
UID:5367-1658448000-1658534340@mort-bend.com
SUMMARY:S.A.R.S. Festival
DESCRIPTION:
URL:https://mort-bend.com/koncert/s-a-r-s-festival/
LOCATION:Sinj\, Put Piketa 43\, Sinj
END:VEVENT
BEGIN:VEVENT
DTSTART;TZID=Europe/Zagreb:20220717T000000
DTEND;TZID=Europe/Zagreb:20220717T235900
DTSTAMP:20260425T144955
CREATED:20240527T140546Z
LAST-MODIFIED:20240527T162715Z
UID:5368-1658016000-1658102340@mort-bend.com
SUMMARY:OK Fest
DESCRIPTION:
URL:https://mort-bend.com/koncert/ok-fest-2/
LOCATION:Tjentište\, OK Stage\, Foča\, Bosnia and Herzegovina
END:VEVENT
BEGIN:VEVENT
DTSTART;TZID=Europe/Zagreb:20220715T000000
DTEND;TZID=Europe/Zagreb:20220715T235900
DTSTAMP:20260425T144955
CREATED:20240527T140419Z
LAST-MODIFIED:20240527T162634Z
UID:5361-1657843200-1657929540@mort-bend.com
SUMMARY:Tam Tam festival
DESCRIPTION:
URL:https://mort-bend.com/koncert/tam-tam-festival/
LOCATION:Sućuraj
END:VEVENT
BEGIN:VEVENT
DTSTART;TZID=Europe/Zagreb:20220702T000000
DTEND;TZID=Europe/Zagreb:20220702T235900
DTSTAMP:20260425T144955
CREATED:20240527T140419Z
LAST-MODIFIED:20240527T162634Z
UID:5362-1656720000-1656806340@mort-bend.com
SUMMARY:Zmajevo Beer Fest
DESCRIPTION:
URL:https://mort-bend.com/koncert/zmajevo-beer-fest/
END:VEVENT
BEGIN:VEVENT
DTSTART;TZID=Europe/Zagreb:20220625T000000
DTEND;TZID=Europe/Zagreb:20220625T235900
DTSTAMP:20260425T144955
CREATED:20240527T140419Z
LAST-MODIFIED:20240527T162634Z
UID:5363-1656115200-1656201540@mort-bend.com
SUMMARY:Puntižela festival Mlini
DESCRIPTION:
URL:https://mort-bend.com/koncert/puntizela-festival-mlini/
LOCATION:Dubrovnik\, Park Orsula\, Dubrovnik
END:VEVENT
BEGIN:VEVENT
DTSTART;TZID=Europe/Zagreb:20220621T000000
DTEND;TZID=Europe/Zagreb:20220621T235900
DTSTAMP:20260425T144955
CREATED:20240527T140546Z
LAST-MODIFIED:20240527T162715Z
UID:5364-1655769600-1655855940@mort-bend.com
SUMMARY:Mostar Rock School
DESCRIPTION:
URL:https://mort-bend.com/koncert/mostar-rock-school/
LOCATION:Mostar\, Mostar
END:VEVENT
BEGIN:VEVENT
DTSTART;TZID=Europe/Zagreb:20220618T000000
DTEND;TZID=Europe/Zagreb:20220618T235900
DTSTAMP:20260425T144955
CREATED:20240527T140711Z
LAST-MODIFIED:20240527T140715Z
UID:5369-1655510400-1655596740@mort-bend.com
SUMMARY:Padrino Motoparty
DESCRIPTION:
URL:https://mort-bend.com/koncert/padrino-motoparty/
END:VEVENT
BEGIN:VEVENT
DTSTART;TZID=Europe/Zagreb:20220616T000000
DTEND;TZID=Europe/Zagreb:20220616T235900
DTSTAMP:20260425T144955
CREATED:20240527T140711Z
LAST-MODIFIED:20240527T140715Z
UID:5370-1655337600-1655423940@mort-bend.com
SUMMARY:Lovestock
DESCRIPTION:
URL:https://mort-bend.com/koncert/lovestock/
END:VEVENT
BEGIN:VEVENT
DTSTART;TZID=Europe/Zagreb:20220610T000000
DTEND;TZID=Europe/Zagreb:20220610T235900
DTSTAMP:20260425T144955
CREATED:20240527T140546Z
LAST-MODIFIED:20240527T162715Z
UID:5365-1654819200-1654905540@mort-bend.com
SUMMARY:Student Day Festival
DESCRIPTION:
URL:https://mort-bend.com/koncert/student-day-festival/
LOCATION:Rijeka
END:VEVENT
BEGIN:VEVENT
DTSTART;TZID=Europe/Zagreb:20220604T000000
DTEND;TZID=Europe/Zagreb:20220604T235900
DTSTAMP:20260425T144955
CREATED:20240527T140712Z
LAST-MODIFIED:20240527T140715Z
UID:5371-1654300800-1654387140@mort-bend.com
SUMMARY:Galoop festival
DESCRIPTION:
URL:https://mort-bend.com/koncert/galoop-festival-2/
LOCATION:Đakovo\, Strossmayerov Park\, Đakovo
END:VEVENT
BEGIN:VEVENT
DTSTART;TZID=Europe/Zagreb:20220521T000000
DTEND;TZID=Europe/Zagreb:20220521T235900
DTSTAMP:20260425T144955
CREATED:20240527T140712Z
LAST-MODIFIED:20240527T140715Z
UID:5372-1653091200-1653177540@mort-bend.com
SUMMARY:Zagreb Beerfest
DESCRIPTION:
URL:https://mort-bend.com/koncert/zagreb-beerfest/
LOCATION:Zagreb\, Zagreb
END:VEVENT
BEGIN:VEVENT
DTSTART;TZID=Europe/Zagreb:20220422T000000
DTEND;TZID=Europe/Zagreb:20220422T235900
DTSTAMP:20260425T144955
CREATED:20240527T140712Z
LAST-MODIFIED:20240527T140715Z
UID:5373-1650585600-1650671940@mort-bend.com
SUMMARY:Plan B - Najmanji festival
DESCRIPTION:
URL:https://mort-bend.com/koncert/plan-b-najmanji-festival/
END:VEVENT
BEGIN:VEVENT
DTSTART;TZID=Europe/Zagreb:20211228T000000
DTEND;TZID=Europe/Zagreb:20211228T235900
DTSTAMP:20260425T144955
CREATED:20240527T140739Z
LAST-MODIFIED:20240527T140739Z
UID:5379-1640649600-1640735940@mort-bend.com
SUMMARY:Peškarija Torcida
DESCRIPTION:
URL:https://mort-bend.com/koncert/peskarija-torcida/
LOCATION:Sinj\, Put Piketa 43\, Sinj
END:VEVENT
BEGIN:VEVENT
DTSTART;TZID=Europe/Zagreb:20210703T000000
DTEND;TZID=Europe/Zagreb:20210703T235900
DTSTAMP:20260425T144955
CREATED:20240527T140739Z
LAST-MODIFIED:20240527T140739Z
UID:5381-1625270400-1625356740@mort-bend.com
SUMMARY:VUMFest
DESCRIPTION:
URL:https://mort-bend.com/koncert/vumfest/
END:VEVENT
BEGIN:VEVENT
DTSTART;TZID=Europe/Zagreb:20210702T000000
DTEND;TZID=Europe/Zagreb:20210702T235900
DTSTAMP:20260425T144955
CREATED:20240527T140739Z
LAST-MODIFIED:20240527T140739Z
UID:5380-1625184000-1625270340@mort-bend.com
SUMMARY:Dvorište Močvare
DESCRIPTION:
URL:https://mort-bend.com/koncert/dvoriste-mocvare/
LOCATION:Zagreb\, Zagreb
END:VEVENT
BEGIN:VEVENT
DTSTART;TZID=Europe/Zagreb:20210624T000000
DTEND;TZID=Europe/Zagreb:20210624T235900
DTSTAMP:20260425T144955
CREATED:20240527T140740Z
LAST-MODIFIED:20240527T140740Z
UID:5383-1624492800-1624579140@mort-bend.com
SUMMARY:Klub Zenta - Majke i M.O.R.T.
DESCRIPTION:
URL:https://mort-bend.com/koncert/klub-zenta-majke-i-m-o-r-t/
END:VEVENT
BEGIN:VEVENT
DTSTART;TZID=Europe/Zagreb:20210622T000000
DTEND;TZID=Europe/Zagreb:20210622T235900
DTSTAMP:20260425T144955
CREATED:20240527T140739Z
LAST-MODIFIED:20240527T140739Z
UID:5382-1624320000-1624406340@mort-bend.com
SUMMARY:Let's Rock
DESCRIPTION:
URL:https://mort-bend.com/koncert/lets-rock/
END:VEVENT
BEGIN:VEVENT
DTSTART;TZID=Europe/Zagreb:20201023T000000
DTEND;TZID=Europe/Zagreb:20201023T235900
DTSTAMP:20260425T144955
CREATED:20240527T140807Z
LAST-MODIFIED:20240527T140807Z
UID:5384-1603411200-1603497540@mort-bend.com
SUMMARY:Quasimodo nr.2
DESCRIPTION:
URL:https://mort-bend.com/koncert/quasimodo-nr-2/
END:VEVENT
BEGIN:VEVENT
DTSTART;TZID=Europe/Zagreb:20201016T000000
DTEND;TZID=Europe/Zagreb:20201016T235900
DTSTAMP:20260425T144955
CREATED:20240527T140807Z
LAST-MODIFIED:20240527T140807Z
UID:5385-1602806400-1602892740@mort-bend.com
SUMMARY:Quasimodo nr.1
DESCRIPTION:
URL:https://mort-bend.com/koncert/quasimodo-nr-1/
END:VEVENT
BEGIN:VEVENT
DTSTART;TZID=Europe/Zagreb:20201009T000000
DTEND;TZID=Europe/Zagreb:20201009T235900
DTSTAMP:20260425T144955
CREATED:20240527T140807Z
LAST-MODIFIED:20240527T140807Z
UID:5386-1602201600-1602287940@mort-bend.com
SUMMARY:KSET sto po sto nr.2
DESCRIPTION:
URL:https://mort-bend.com/koncert/kset-sto-po-sto-nr-2/
END:VEVENT
BEGIN:VEVENT
DTSTART;TZID=Europe/Zagreb:20201002T000000
DTEND;TZID=Europe/Zagreb:20201002T235900
DTSTAMP:20260425T144955
CREATED:20240527T140808Z
LAST-MODIFIED:20240527T140808Z
UID:5387-1601596800-1601683140@mort-bend.com
SUMMARY:KSET sto po sto
DESCRIPTION:
URL:https://mort-bend.com/koncert/kset-sto-po-sto/
END:VEVENT
BEGIN:VEVENT
DTSTART;TZID=Europe/Zagreb:20200814T000000
DTEND;TZID=Europe/Zagreb:20200814T235900
DTSTAMP:20260425T144955
CREATED:20240527T140808Z
LAST-MODIFIED:20240527T140808Z
UID:5388-1597363200-1597449540@mort-bend.com
SUMMARY:MORT i Sachmara Open Air
DESCRIPTION:
URL:https://mort-bend.com/koncert/mort-i-sachmara-open-air/
END:VEVENT
BEGIN:VEVENT
DTSTART;TZID=Europe/Zagreb:20200718T000000
DTEND;TZID=Europe/Zagreb:20200718T235900
DTSTAMP:20260425T144955
CREATED:20240527T140827Z
LAST-MODIFIED:20240527T140836Z
UID:5389-1595030400-1595116740@mort-bend.com
SUMMARY:Lovestock
DESCRIPTION:
URL:https://mort-bend.com/koncert/lovestock-2/
END:VEVENT
BEGIN:VEVENT
DTSTART;TZID=Europe/Zagreb:20200215T000000
DTEND;TZID=Europe/Zagreb:20200215T235900
DTSTAMP:20260425T144955
CREATED:20240527T140830Z
LAST-MODIFIED:20240527T140854Z
UID:5396-1581724800-1581811140@mort-bend.com
SUMMARY:Antivalentinovo Boćarski dom
DESCRIPTION:
URL:https://mort-bend.com/koncert/antivalentinovo-bocarski-dom/
LOCATION:Zagreb\, Zagreb
END:VEVENT
BEGIN:VEVENT
DTSTART;TZID=Europe/Zagreb:20200104T000000
DTEND;TZID=Europe/Zagreb:20200104T235900
DTSTAMP:20260425T144955
CREATED:20240527T140830Z
LAST-MODIFIED:20240527T140854Z
UID:5394-1578096000-1578182340@mort-bend.com
SUMMARY:Retro Bar Božićni maraton
DESCRIPTION:
URL:https://mort-bend.com/koncert/retro-bar-bozicni-maraton/
END:VEVENT
BEGIN:VEVENT
DTSTART;TZID=Europe/Zagreb:20191231T000000
DTEND;TZID=Europe/Zagreb:20191231T235900
DTSTAMP:20260425T144955
CREATED:20240527T140830Z
LAST-MODIFIED:20240527T140854Z
UID:5398-1577750400-1577836740@mort-bend.com
SUMMARY:Doček Nove godine na Pijaci
DESCRIPTION:
URL:https://mort-bend.com/koncert/docek-nove-godine-na-pijaci/
LOCATION:Sinj\, Put Piketa 43\, Sinj
END:VEVENT
BEGIN:VEVENT
DTSTART;TZID=Europe/Zagreb:20191228T000000
DTEND;TZID=Europe/Zagreb:20191228T235900
DTSTAMP:20260425T144955
CREATED:20240527T140830Z
LAST-MODIFIED:20240527T140854Z
UID:5395-1577491200-1577577540@mort-bend.com
SUMMARY:Pub Stari grad
DESCRIPTION:
URL:https://mort-bend.com/koncert/pub-stari-grad/
END:VEVENT
BEGIN:VEVENT
DTSTART;TZID=Europe/Zagreb:20191220T000000
DTEND;TZID=Europe/Zagreb:20191220T235900
DTSTAMP:20260425T144955
CREATED:20240527T140830Z
LAST-MODIFIED:20240527T140854Z
UID:5397-1576800000-1576886340@mort-bend.com
SUMMARY:Božićno rokanje\, Kino dvorana
DESCRIPTION:
URL:https://mort-bend.com/koncert/bozicno-rokanje-kino-dvorana/
END:VEVENT
BEGIN:VEVENT
DTSTART;TZID=Europe/Zagreb:20191214T000000
DTEND;TZID=Europe/Zagreb:20191214T235900
DTSTAMP:20260425T144955
CREATED:20240527T140852Z
LAST-MODIFIED:20240527T140915Z
UID:5409-1576281600-1576367940@mort-bend.com
SUMMARY:Rođendan Saloona
DESCRIPTION:
URL:https://mort-bend.com/koncert/rodendan-saloona/
END:VEVENT
END:VCALENDAR