BEGIN:VCALENDAR
VERSION:2.0
PRODID:-//M.O.R.T. - ECPv6.15.11//NONSGML v1.0//EN
CALSCALE:GREGORIAN
METHOD:PUBLISH
X-ORIGINAL-URL:https://mort-bend.com
X-WR-CALDESC:Događaji za M.O.R.T.
REFRESH-INTERVAL;VALUE=DURATION:PT1H
X-Robots-Tag:noindex
X-PUBLISHED-TTL:PT1H
BEGIN:VTIMEZONE
TZID:Europe/Zagreb
BEGIN:DAYLIGHT
TZOFFSETFROM:+0100
TZOFFSETTO:+0200
TZNAME:CEST
DTSTART:20210328T010000
END:DAYLIGHT
BEGIN:STANDARD
TZOFFSETFROM:+0200
TZOFFSETTO:+0100
TZNAME:CET
DTSTART:20211031T010000
END:STANDARD
BEGIN:DAYLIGHT
TZOFFSETFROM:+0100
TZOFFSETTO:+0200
TZNAME:CEST
DTSTART:20220327T010000
END:DAYLIGHT
BEGIN:STANDARD
TZOFFSETFROM:+0200
TZOFFSETTO:+0100
TZNAME:CET
DTSTART:20221030T010000
END:STANDARD
BEGIN:DAYLIGHT
TZOFFSETFROM:+0100
TZOFFSETTO:+0200
TZNAME:CEST
DTSTART:20230326T010000
END:DAYLIGHT
BEGIN:STANDARD
TZOFFSETFROM:+0200
TZOFFSETTO:+0100
TZNAME:CET
DTSTART:20231029T010000
END:STANDARD
BEGIN:DAYLIGHT
TZOFFSETFROM:+0100
TZOFFSETTO:+0200
TZNAME:CEST
DTSTART:20240331T010000
END:DAYLIGHT
BEGIN:STANDARD
TZOFFSETFROM:+0200
TZOFFSETTO:+0100
TZNAME:CET
DTSTART:20241027T010000
END:STANDARD
END:VTIMEZONE
BEGIN:VEVENT
DTSTART;TZID=Europe/Zagreb:20230818T000000
DTEND;TZID=Europe/Zagreb:20230818T235900
DTSTAMP:20260425T003444
CREATED:20240527T135737Z
LAST-MODIFIED:20240527T162003Z
UID:5337-1692316800-1692403140@mort-bend.com
SUMMARY:Jaz fest
DESCRIPTION:
URL:https://mort-bend.com/koncert/jaz-fest/
LOCATION:Čapljina
END:VEVENT
BEGIN:VEVENT
DTSTART;TZID=Europe/Zagreb:20230812T000000
DTEND;TZID=Europe/Zagreb:20230812T235900
DTSTAMP:20260425T003444
CREATED:20240527T135737Z
LAST-MODIFIED:20240527T162003Z
UID:5338-1691798400-1691884740@mort-bend.com
SUMMARY:Crash Fest
DESCRIPTION:
URL:https://mort-bend.com/koncert/crash-fest/
LOCATION:Kreševo
END:VEVENT
BEGIN:VEVENT
DTSTART;TZID=Europe/Zagreb:20230804T000000
DTEND;TZID=Europe/Zagreb:20230804T235900
DTSTAMP:20260425T003444
CREATED:20240527T135757Z
LAST-MODIFIED:20240527T162105Z
UID:5339-1691107200-1691193540@mort-bend.com
SUMMARY:Ferragosto Jam
DESCRIPTION:
URL:https://mort-bend.com/koncert/ferragosto-jam/
LOCATION:Orahovica
END:VEVENT
BEGIN:VEVENT
DTSTART;TZID=Europe/Zagreb:20230721T000000
DTEND;TZID=Europe/Zagreb:20230721T235900
DTSTAMP:20260425T003444
CREATED:20240527T135757Z
LAST-MODIFIED:20240527T162105Z
UID:5340-1689897600-1689983940@mort-bend.com
SUMMARY:SARS festival
DESCRIPTION:
URL:https://mort-bend.com/koncert/sars-festival/
LOCATION:Sinj\, Put Piketa 43\, Sinj
END:VEVENT
BEGIN:VEVENT
DTSTART;TZID=Europe/Zagreb:20230720T000000
DTEND;TZID=Europe/Zagreb:20230720T235900
DTSTAMP:20260425T003444
CREATED:20240527T135757Z
LAST-MODIFIED:20240527T162105Z
UID:5341-1689811200-1689897540@mort-bend.com
SUMMARY:Demofest
DESCRIPTION:
URL:https://mort-bend.com/koncert/demofest/
LOCATION:Banja Luka\, Banja Luka
END:VEVENT
BEGIN:VEVENT
DTSTART;TZID=Europe/Zagreb:20230715T000000
DTEND;TZID=Europe/Zagreb:20230715T235900
DTSTAMP:20260425T003444
CREATED:20240527T135757Z
LAST-MODIFIED:20240527T162105Z
UID:5343-1689379200-1689465540@mort-bend.com
SUMMARY:The Crows moto susret
DESCRIPTION:
URL:https://mort-bend.com/koncert/the-crows-moto-susret/
LOCATION:Novi Travnik
END:VEVENT
BEGIN:VEVENT
DTSTART;TZID=Europe/Zagreb:20230707T000000
DTEND;TZID=Europe/Zagreb:20230707T235900
DTSTAMP:20260425T003444
CREATED:20240527T135757Z
LAST-MODIFIED:20240527T162105Z
UID:5342-1688688000-1688774340@mort-bend.com
SUMMARY:MSU
DESCRIPTION:
URL:https://mort-bend.com/koncert/msu/
LOCATION:Zagreb\, Zagreb
END:VEVENT
BEGIN:VEVENT
DTSTART;TZID=Europe/Zagreb:20230325T000000
DTEND;TZID=Europe/Zagreb:20230325T235900
DTSTAMP:20260425T003444
CREATED:20240527T135958Z
LAST-MODIFIED:20240527T162219Z
UID:5344-1679702400-1679788740@mort-bend.com
SUMMARY:Sax
DESCRIPTION:
URL:https://mort-bend.com/koncert/sax/
LOCATION:Zagreb\, Zagreb
END:VEVENT
BEGIN:VEVENT
DTSTART;TZID=Europe/Zagreb:20230304T000000
DTEND;TZID=Europe/Zagreb:20230304T235900
DTSTAMP:20260425T003444
CREATED:20240527T135958Z
LAST-MODIFIED:20240527T162219Z
UID:5345-1677888000-1677974340@mort-bend.com
SUMMARY:Saloon '17
DESCRIPTION:
URL:https://mort-bend.com/koncert/saloon-17/
LOCATION:Uskoplje
END:VEVENT
BEGIN:VEVENT
DTSTART;TZID=Europe/Zagreb:20221230T000000
DTEND;TZID=Europe/Zagreb:20221230T235900
DTSTAMP:20260425T003444
CREATED:20240527T135958Z
LAST-MODIFIED:20240527T162219Z
UID:5348-1672358400-1672444740@mort-bend.com
SUMMARY:Advent na trgu
DESCRIPTION:
URL:https://mort-bend.com/koncert/advent-na-trgu/
LOCATION:Sinj\, Put Piketa 43\, Sinj
END:VEVENT
BEGIN:VEVENT
DTSTART;TZID=Europe/Zagreb:20221224T000000
DTEND;TZID=Europe/Zagreb:20221224T235900
DTSTAMP:20260425T003444
CREATED:20240527T140113Z
LAST-MODIFIED:20240527T162233Z
UID:5349-1671840000-1671926340@mort-bend.com
SUMMARY:Klub Kocka
DESCRIPTION:
URL:https://mort-bend.com/koncert/klub-kocka/
LOCATION:Split
END:VEVENT
BEGIN:VEVENT
DTSTART;TZID=Europe/Zagreb:20221217T000000
DTEND;TZID=Europe/Zagreb:20221217T235900
DTSTAMP:20260425T003444
CREATED:20240527T135958Z
LAST-MODIFIED:20240527T162219Z
UID:5346-1671235200-1671321540@mort-bend.com
SUMMARY:Art kvart - Advent
DESCRIPTION:
URL:https://mort-bend.com/koncert/art-kvart-advent/
LOCATION:Zadar
END:VEVENT
BEGIN:VEVENT
DTSTART;TZID=Europe/Zagreb:20221216T000000
DTEND;TZID=Europe/Zagreb:20221216T235900
DTSTAMP:20260425T003444
CREATED:20240527T135958Z
LAST-MODIFIED:20240527T162219Z
UID:5347-1671148800-1671235140@mort-bend.com
SUMMARY:Koncert za vatrogasni dom
DESCRIPTION:
URL:https://mort-bend.com/koncert/koncert-za-vatrogasni-dom/
LOCATION:Podgora
END:VEVENT
BEGIN:VEVENT
DTSTART;TZID=Europe/Zagreb:20221124T000000
DTEND;TZID=Europe/Zagreb:20221124T235900
DTSTAMP:20260425T003444
CREATED:20240527T140113Z
LAST-MODIFIED:20240527T162233Z
UID:5350-1669248000-1669334340@mort-bend.com
SUMMARY:Vintage Industrial Bar
DESCRIPTION:
URL:https://mort-bend.com/koncert/vintage-industrial-bar/
LOCATION:Zagreb\, Zagreb
END:VEVENT
BEGIN:VEVENT
DTSTART;TZID=Europe/Zagreb:20221104T000000
DTEND;TZID=Europe/Zagreb:20221104T235900
DTSTAMP:20260425T003444
CREATED:20240527T140113Z
LAST-MODIFIED:20240527T162233Z
UID:5351-1667520000-1667606340@mort-bend.com
SUMMARY:Regius Mini Break
DESCRIPTION:
URL:https://mort-bend.com/koncert/regius-mini-break/
LOCATION:Šibenik
END:VEVENT
BEGIN:VEVENT
DTSTART;TZID=Europe/Zagreb:20221008T000000
DTEND;TZID=Europe/Zagreb:20221008T235900
DTSTAMP:20260425T003444
CREATED:20240527T140113Z
LAST-MODIFIED:20240527T162233Z
UID:5352-1665187200-1665273540@mort-bend.com
SUMMARY:Gerila bar
DESCRIPTION:
URL:https://mort-bend.com/koncert/gerila-bar/
LOCATION:Novi Sad
END:VEVENT
BEGIN:VEVENT
DTSTART;TZID=Europe/Zagreb:20221007T000000
DTEND;TZID=Europe/Zagreb:20221007T235900
DTSTAMP:20260425T003444
CREATED:20240527T140113Z
LAST-MODIFIED:20240527T162233Z
UID:5353-1665100800-1665187140@mort-bend.com
SUMMARY:Rock Am Dorćol - Dorćol Platz
DESCRIPTION:
URL:https://mort-bend.com/koncert/rock-am-dorcol-dorcol-platz/
LOCATION:Beograd
END:VEVENT
BEGIN:VEVENT
DTSTART;TZID=Europe/Zagreb:20220924T000000
DTEND;TZID=Europe/Zagreb:20220924T235900
DTSTAMP:20260425T003444
CREATED:20240527T140304Z
LAST-MODIFIED:20240527T162434Z
UID:5356-1663977600-1664063940@mort-bend.com
SUMMARY:BackYard Art Festival
DESCRIPTION:
URL:https://mort-bend.com/koncert/backyard-art-festival/
LOCATION:Donji Miholjac
END:VEVENT
BEGIN:VEVENT
DTSTART;TZID=Europe/Zagreb:20220908T000000
DTEND;TZID=Europe/Zagreb:20220908T235900
DTSTAMP:20260425T003444
CREATED:20240527T140304Z
LAST-MODIFIED:20240527T162434Z
UID:5355-1662595200-1662681540@mort-bend.com
SUMMARY:Brijačnica
DESCRIPTION:
URL:https://mort-bend.com/koncert/brijacnica/
LOCATION:Zagreb\, Zagreb
END:VEVENT
BEGIN:VEVENT
DTSTART;TZID=Europe/Zagreb:20220827T000000
DTEND;TZID=Europe/Zagreb:20220827T235900
DTSTAMP:20260425T003444
CREATED:20240527T140304Z
LAST-MODIFIED:20240527T162434Z
UID:5354-1661558400-1661644740@mort-bend.com
SUMMARY:Beer fest Dugopolje
DESCRIPTION:
URL:https://mort-bend.com/koncert/beer-fest-dugopolje/
LOCATION:Dugopolje
END:VEVENT
BEGIN:VEVENT
DTSTART;TZID=Europe/Zagreb:20220812T000000
DTEND;TZID=Europe/Zagreb:20220812T235900
DTSTAMP:20260425T003444
CREATED:20240527T140304Z
LAST-MODIFIED:20240527T162434Z
UID:5357-1660262400-1660348740@mort-bend.com
SUMMARY:Štala Open Air
DESCRIPTION:
URL:https://mort-bend.com/koncert/stala-open-air/
LOCATION:Uskoplje
END:VEVENT
BEGIN:VEVENT
DTSTART;TZID=Europe/Zagreb:20220805T000000
DTEND;TZID=Europe/Zagreb:20220805T235900
DTSTAMP:20260425T003444
CREATED:20240527T140304Z
LAST-MODIFIED:20240527T162434Z
UID:5358-1659657600-1659743940@mort-bend.com
SUMMARY:Kula Fest
DESCRIPTION:
URL:https://mort-bend.com/koncert/kula-fest/
LOCATION:Trogir
END:VEVENT
BEGIN:VEVENT
DTSTART;TZID=Europe/Zagreb:20220730T000000
DTEND;TZID=Europe/Zagreb:20220730T235900
DTSTAMP:20260425T003444
CREATED:20240527T140419Z
LAST-MODIFIED:20240527T162634Z
UID:5359-1659139200-1659225540@mort-bend.com
SUMMARY:Busija Fest
DESCRIPTION:
URL:https://mort-bend.com/koncert/busija-fest/
LOCATION:Glamoč
END:VEVENT
BEGIN:VEVENT
DTSTART;TZID=Europe/Zagreb:20220729T000000
DTEND;TZID=Europe/Zagreb:20220729T235900
DTSTAMP:20260425T003444
CREATED:20240527T140419Z
LAST-MODIFIED:20240527T162634Z
UID:5360-1659052800-1659139140@mort-bend.com
SUMMARY:Klein Film Festival
DESCRIPTION:
URL:https://mort-bend.com/koncert/klein-film-festival/
LOCATION:Vukovar
END:VEVENT
BEGIN:VEVENT
DTSTART;TZID=Europe/Zagreb:20220728T000000
DTEND;TZID=Europe/Zagreb:20220728T235900
DTSTAMP:20260425T003444
CREATED:20240527T140546Z
LAST-MODIFIED:20240527T162715Z
UID:5366-1658966400-1659052740@mort-bend.com
SUMMARY:Rocklive
DESCRIPTION:
URL:https://mort-bend.com/koncert/rocklive/
LOCATION:Koprivnica
END:VEVENT
BEGIN:VEVENT
DTSTART;TZID=Europe/Zagreb:20220722T000000
DTEND;TZID=Europe/Zagreb:20220722T235900
DTSTAMP:20260425T003444
CREATED:20240527T140546Z
LAST-MODIFIED:20240527T162715Z
UID:5367-1658448000-1658534340@mort-bend.com
SUMMARY:S.A.R.S. Festival
DESCRIPTION:
URL:https://mort-bend.com/koncert/s-a-r-s-festival/
LOCATION:Sinj\, Put Piketa 43\, Sinj
END:VEVENT
BEGIN:VEVENT
DTSTART;TZID=Europe/Zagreb:20220717T000000
DTEND;TZID=Europe/Zagreb:20220717T235900
DTSTAMP:20260425T003444
CREATED:20240527T140546Z
LAST-MODIFIED:20240527T162715Z
UID:5368-1658016000-1658102340@mort-bend.com
SUMMARY:OK Fest
DESCRIPTION:
URL:https://mort-bend.com/koncert/ok-fest-2/
LOCATION:Tjentište\, OK Stage\, Foča\, Bosnia and Herzegovina
END:VEVENT
BEGIN:VEVENT
DTSTART;TZID=Europe/Zagreb:20220715T000000
DTEND;TZID=Europe/Zagreb:20220715T235900
DTSTAMP:20260425T003444
CREATED:20240527T140419Z
LAST-MODIFIED:20240527T162634Z
UID:5361-1657843200-1657929540@mort-bend.com
SUMMARY:Tam Tam festival
DESCRIPTION:
URL:https://mort-bend.com/koncert/tam-tam-festival/
LOCATION:Sućuraj
END:VEVENT
BEGIN:VEVENT
DTSTART;TZID=Europe/Zagreb:20220702T000000
DTEND;TZID=Europe/Zagreb:20220702T235900
DTSTAMP:20260425T003444
CREATED:20240527T140419Z
LAST-MODIFIED:20240527T162634Z
UID:5362-1656720000-1656806340@mort-bend.com
SUMMARY:Zmajevo Beer Fest
DESCRIPTION:
URL:https://mort-bend.com/koncert/zmajevo-beer-fest/
END:VEVENT
BEGIN:VEVENT
DTSTART;TZID=Europe/Zagreb:20220625T000000
DTEND;TZID=Europe/Zagreb:20220625T235900
DTSTAMP:20260425T003444
CREATED:20240527T140419Z
LAST-MODIFIED:20240527T162634Z
UID:5363-1656115200-1656201540@mort-bend.com
SUMMARY:Puntižela festival Mlini
DESCRIPTION:
URL:https://mort-bend.com/koncert/puntizela-festival-mlini/
LOCATION:Dubrovnik\, Park Orsula\, Dubrovnik
END:VEVENT
END:VCALENDAR