BEGIN:VCALENDAR
VERSION:2.0
PRODID:-//M.O.R.T. - ECPv6.15.11//NONSGML v1.0//EN
CALSCALE:GREGORIAN
METHOD:PUBLISH
X-ORIGINAL-URL:https://mort-bend.com
X-WR-CALDESC:Događaji za M.O.R.T.
REFRESH-INTERVAL;VALUE=DURATION:PT1H
X-Robots-Tag:noindex
X-PUBLISHED-TTL:PT1H
BEGIN:VTIMEZONE
TZID:Europe/Zagreb
BEGIN:DAYLIGHT
TZOFFSETFROM:+0100
TZOFFSETTO:+0200
TZNAME:CEST
DTSTART:20140330T010000
END:DAYLIGHT
BEGIN:STANDARD
TZOFFSETFROM:+0200
TZOFFSETTO:+0100
TZNAME:CET
DTSTART:20141026T010000
END:STANDARD
BEGIN:DAYLIGHT
TZOFFSETFROM:+0100
TZOFFSETTO:+0200
TZNAME:CEST
DTSTART:20150329T010000
END:DAYLIGHT
BEGIN:STANDARD
TZOFFSETFROM:+0200
TZOFFSETTO:+0100
TZNAME:CET
DTSTART:20151025T010000
END:STANDARD
BEGIN:DAYLIGHT
TZOFFSETFROM:+0100
TZOFFSETTO:+0200
TZNAME:CEST
DTSTART:20160327T010000
END:DAYLIGHT
BEGIN:STANDARD
TZOFFSETFROM:+0200
TZOFFSETTO:+0100
TZNAME:CET
DTSTART:20161030T010000
END:STANDARD
BEGIN:DAYLIGHT
TZOFFSETFROM:+0100
TZOFFSETTO:+0200
TZNAME:CEST
DTSTART:20170326T010000
END:DAYLIGHT
BEGIN:STANDARD
TZOFFSETFROM:+0200
TZOFFSETTO:+0100
TZNAME:CET
DTSTART:20171029T010000
END:STANDARD
END:VTIMEZONE
BEGIN:VEVENT
DTSTART;VALUE=DATE:20160130
DTEND;VALUE=DATE:20160131
DTSTAMP:20260426T061804
CREATED:20250218T132802Z
LAST-MODIFIED:20250218T132802Z
UID:6426-1454112000-1454198399@mort-bend.com
SUMMARY:Brijačnica
DESCRIPTION:
URL:https://mort-bend.com/koncert/brijacnica-2/
END:VEVENT
BEGIN:VEVENT
DTSTART;VALUE=DATE:20160129
DTEND;VALUE=DATE:20160130
DTSTAMP:20260426T061804
CREATED:20250218T132806Z
LAST-MODIFIED:20250218T132806Z
UID:6427-1454025600-1454111999@mort-bend.com
SUMMARY:klub Exit Osijek
DESCRIPTION:
URL:https://mort-bend.com/koncert/klub-exit-osijek/
END:VEVENT
BEGIN:VEVENT
DTSTART;VALUE=DATE:20151230
DTEND;VALUE=DATE:20151231
DTSTAMP:20260426T061804
CREATED:20250218T125229Z
LAST-MODIFIED:20250218T125229Z
UID:6244-1451433600-1451519999@mort-bend.com
SUMMARY:Kupres Play
DESCRIPTION:
URL:https://mort-bend.com/koncert/kupres-play/
END:VEVENT
BEGIN:VEVENT
DTSTART;VALUE=DATE:20151229
DTEND;VALUE=DATE:20151230
DTSTAMP:20260426T061804
CREATED:20250218T125229Z
LAST-MODIFIED:20250218T125229Z
UID:6245-1451347200-1451433599@mort-bend.com
SUMMARY:Advent u Sinju
DESCRIPTION:
URL:https://mort-bend.com/koncert/advent-u-sinju/
END:VEVENT
BEGIN:VEVENT
DTSTART;VALUE=DATE:20151226
DTEND;VALUE=DATE:20151227
DTSTAMP:20260426T061804
CREATED:20250218T125229Z
LAST-MODIFIED:20250218T125229Z
UID:6246-1451088000-1451174399@mort-bend.com
SUMMARY:Yuma
DESCRIPTION:
URL:https://mort-bend.com/koncert/yuma-4/
END:VEVENT
BEGIN:VEVENT
DTSTART;VALUE=DATE:20151212
DTEND;VALUE=DATE:20151213
DTSTAMP:20260426T061804
CREATED:20250218T125229Z
LAST-MODIFIED:20250218T125229Z
UID:6247-1449878400-1449964799@mort-bend.com
SUMMARY:o’Hara
DESCRIPTION:
URL:https://mort-bend.com/koncert/ohara/
END:VEVENT
BEGIN:VEVENT
DTSTART;VALUE=DATE:20151211
DTEND;VALUE=DATE:20151212
DTSTAMP:20260426T061804
CREATED:20250218T125229Z
LAST-MODIFIED:20250218T125229Z
UID:6248-1449792000-1449878399@mort-bend.com
SUMMARY:Maraschino
DESCRIPTION:
URL:https://mort-bend.com/koncert/maraschino/
END:VEVENT
BEGIN:VEVENT
DTSTART;VALUE=DATE:20151114
DTEND;VALUE=DATE:20151115
DTSTAMP:20260426T061804
CREATED:20250218T125230Z
LAST-MODIFIED:20250218T125230Z
UID:6249-1447459200-1447545599@mort-bend.com
SUMMARY:Puž
DESCRIPTION:
URL:https://mort-bend.com/koncert/puz/
END:VEVENT
BEGIN:VEVENT
DTSTART;VALUE=DATE:20151108
DTEND;VALUE=DATE:20151109
DTSTAMP:20260426T061804
CREATED:20250218T125230Z
LAST-MODIFIED:20250218T125230Z
UID:6250-1446940800-1447027199@mort-bend.com
SUMMARY:Herceg Novi
DESCRIPTION:
URL:https://mort-bend.com/koncert/herceg-novi/
END:VEVENT
BEGIN:VEVENT
DTSTART;VALUE=DATE:20151107
DTEND;VALUE=DATE:20151108
DTSTAMP:20260426T061804
CREATED:20250218T125229Z
LAST-MODIFIED:20250218T125229Z
UID:6251-1446854400-1446940799@mort-bend.com
SUMMARY:Kriterion
DESCRIPTION:
URL:https://mort-bend.com/koncert/kriterion/
END:VEVENT
BEGIN:VEVENT
DTSTART;VALUE=DATE:20151106
DTEND;VALUE=DATE:20151107
DTSTAMP:20260426T061804
CREATED:20250218T125229Z
LAST-MODIFIED:20250218T125229Z
UID:6252-1446768000-1446854399@mort-bend.com
SUMMARY:Tamaris
DESCRIPTION:
URL:https://mort-bend.com/koncert/tamaris/
END:VEVENT
BEGIN:VEVENT
DTSTART;VALUE=DATE:20151105
DTEND;VALUE=DATE:20151106
DTSTAMP:20260426T061804
CREATED:20250218T125229Z
LAST-MODIFIED:20250218T125229Z
UID:6253-1446681600-1446767999@mort-bend.com
SUMMARY:Kriva Marta
DESCRIPTION:
URL:https://mort-bend.com/koncert/kriva-marta/
END:VEVENT
BEGIN:VEVENT
DTSTART;VALUE=DATE:20151102
DTEND;VALUE=DATE:20151103
DTSTAMP:20260426T061804
CREATED:20250218T125230Z
LAST-MODIFIED:20250218T125230Z
UID:6254-1446422400-1446508799@mort-bend.com
SUMMARY:Montenegro Pub
DESCRIPTION:
URL:https://mort-bend.com/koncert/montenegro-pub/
END:VEVENT
BEGIN:VEVENT
DTSTART;VALUE=DATE:20151101
DTEND;VALUE=DATE:20151102
DTSTAMP:20260426T061804
CREATED:20250218T125230Z
LAST-MODIFIED:20250218T125230Z
UID:6255-1446336000-1446422399@mort-bend.com
SUMMARY:NK Pub
DESCRIPTION:
URL:https://mort-bend.com/koncert/nk-pub/
END:VEVENT
BEGIN:VEVENT
DTSTART;VALUE=DATE:20151030
DTEND;VALUE=DATE:20151031
DTSTAMP:20260426T061804
CREATED:20250218T125231Z
LAST-MODIFIED:20250218T125231Z
UID:6256-1446163200-1446249599@mort-bend.com
SUMMARY:Rockatansky
DESCRIPTION:
URL:https://mort-bend.com/koncert/rockatansky/
END:VEVENT
BEGIN:VEVENT
DTSTART;VALUE=DATE:20151024
DTEND;VALUE=DATE:20151025
DTSTAMP:20260426T061804
CREATED:20250218T125230Z
LAST-MODIFIED:20250218T125230Z
UID:6257-1445644800-1445731199@mort-bend.com
SUMMARY:CB Reful
DESCRIPTION:
URL:https://mort-bend.com/koncert/cb-reful/
END:VEVENT
BEGIN:VEVENT
DTSTART;VALUE=DATE:20151023
DTEND;VALUE=DATE:20151024
DTSTAMP:20260426T061804
CREATED:20250218T125230Z
LAST-MODIFIED:20250218T125230Z
UID:6258-1445558400-1445644799@mort-bend.com
SUMMARY:Azimut
DESCRIPTION:
URL:https://mort-bend.com/koncert/azimut/
END:VEVENT
BEGIN:VEVENT
DTSTART;VALUE=DATE:20151003
DTEND;VALUE=DATE:20151004
DTSTAMP:20260426T061804
CREATED:20250218T125231Z
LAST-MODIFIED:20250218T125231Z
UID:6259-1443830400-1443916799@mort-bend.com
SUMMARY:Rock Zenica
DESCRIPTION:
URL:https://mort-bend.com/koncert/rock-zenica/
END:VEVENT
BEGIN:VEVENT
DTSTART;VALUE=DATE:20151001
DTEND;VALUE=DATE:20151002
DTSTAMP:20260426T061804
CREATED:20250218T125231Z
LAST-MODIFIED:20250218T125231Z
UID:6260-1443657600-1443743999@mort-bend.com
SUMMARY:Golden Pub
DESCRIPTION:
URL:https://mort-bend.com/koncert/golden-pub/
END:VEVENT
BEGIN:VEVENT
DTSTART;VALUE=DATE:20150926
DTEND;VALUE=DATE:20150927
DTSTAMP:20260426T061804
CREATED:20250218T125232Z
LAST-MODIFIED:20250218T125232Z
UID:6261-1443225600-1443311999@mort-bend.com
SUMMARY:MUF
DESCRIPTION:
URL:https://mort-bend.com/koncert/muf/
END:VEVENT
BEGIN:VEVENT
DTSTART;VALUE=DATE:20150919
DTEND;VALUE=DATE:20150920
DTSTAMP:20260426T061804
CREATED:20250218T125232Z
LAST-MODIFIED:20250218T125232Z
UID:6262-1442620800-1442707199@mort-bend.com
SUMMARY:Vojarna
DESCRIPTION:
URL:https://mort-bend.com/koncert/vojarna-5/
END:VEVENT
BEGIN:VEVENT
DTSTART;VALUE=DATE:20150903
DTEND;VALUE=DATE:20150904
DTSTAMP:20260426T061804
CREATED:20250218T125232Z
LAST-MODIFIED:20250218T125232Z
UID:6263-1441238400-1441324799@mort-bend.com
SUMMARY:Dozvoljeni četvrtak
DESCRIPTION:
URL:https://mort-bend.com/koncert/dozvoljeni-cetvrtak/
END:VEVENT
BEGIN:VEVENT
DTSTART;VALUE=DATE:20150829
DTEND;VALUE=DATE:20150830
DTSTAMP:20260426T061804
CREATED:20250218T125232Z
LAST-MODIFIED:20250218T125232Z
UID:6264-1440806400-1440892799@mort-bend.com
SUMMARY:Park Orsula
DESCRIPTION:
URL:https://mort-bend.com/koncert/park-orsula/
END:VEVENT
BEGIN:VEVENT
DTSTART;VALUE=DATE:20150822
DTEND;VALUE=DATE:20150823
DTSTAMP:20260426T061804
CREATED:20250218T125232Z
LAST-MODIFIED:20250218T125232Z
UID:6265-1440201600-1440287999@mort-bend.com
SUMMARY:Cugare fest
DESCRIPTION:
URL:https://mort-bend.com/koncert/cugare-fest/
END:VEVENT
BEGIN:VEVENT
DTSTART;VALUE=DATE:20150821
DTEND;VALUE=DATE:20150822
DTSTAMP:20260426T061804
CREATED:20250218T125232Z
LAST-MODIFIED:20250218T125232Z
UID:6266-1440115200-1440201599@mort-bend.com
SUMMARY:Toochepin
DESCRIPTION:
URL:https://mort-bend.com/koncert/toochepin/
END:VEVENT
BEGIN:VEVENT
DTSTART;VALUE=DATE:20150813
DTEND;VALUE=DATE:20150814
DTSTAMP:20260426T061804
CREATED:20250218T125232Z
LAST-MODIFIED:20250218T125232Z
UID:6267-1439424000-1439510399@mort-bend.com
SUMMARY:Metković
DESCRIPTION:
URL:https://mort-bend.com/koncert/metkovic/
END:VEVENT
BEGIN:VEVENT
DTSTART;VALUE=DATE:20150808
DTEND;VALUE=DATE:20150809
DTSTAMP:20260426T061804
CREATED:20250218T125233Z
LAST-MODIFIED:20250218T125233Z
UID:6268-1438992000-1439078399@mort-bend.com
SUMMARY:Srce sunca festival
DESCRIPTION:
URL:https://mort-bend.com/koncert/srce-sunca-festival-2/
END:VEVENT
BEGIN:VEVENT
DTSTART;VALUE=DATE:20150807
DTEND;VALUE=DATE:20150808
DTSTAMP:20260426T061804
CREATED:20250218T125233Z
LAST-MODIFIED:20250218T125233Z
UID:6269-1438905600-1438991999@mort-bend.com
SUMMARY:Zlarin
DESCRIPTION:
URL:https://mort-bend.com/koncert/zlarin/
END:VEVENT
BEGIN:VEVENT
DTSTART;VALUE=DATE:20150806
DTEND;VALUE=DATE:20150807
DTSTAMP:20260426T061804
CREATED:20250218T125233Z
LAST-MODIFIED:20250218T125233Z
UID:6270-1438819200-1438905599@mort-bend.com
SUMMARY:Jaz Fest
DESCRIPTION:
URL:https://mort-bend.com/koncert/jaz-fest-2/
END:VEVENT
BEGIN:VEVENT
DTSTART;VALUE=DATE:20150804
DTEND;VALUE=DATE:20150805
DTSTAMP:20260426T061804
CREATED:20250218T125233Z
LAST-MODIFIED:20250218T125233Z
UID:6271-1438646400-1438732799@mort-bend.com
SUMMARY:Veneranda
DESCRIPTION:
URL:https://mort-bend.com/koncert/veneranda/
END:VEVENT
END:VCALENDAR