BEGIN:VCALENDAR
VERSION:2.0
PRODID:-//M.O.R.T. - ECPv6.15.11//NONSGML v1.0//EN
CALSCALE:GREGORIAN
METHOD:PUBLISH
X-WR-CALNAME:M.O.R.T.
X-ORIGINAL-URL:https://mort-bend.com
X-WR-CALDESC:Događaji za M.O.R.T.
REFRESH-INTERVAL;VALUE=DURATION:PT1H
X-Robots-Tag:noindex
X-PUBLISHED-TTL:PT1H
BEGIN:VTIMEZONE
TZID:Europe/Zagreb
BEGIN:DAYLIGHT
TZOFFSETFROM:+0100
TZOFFSETTO:+0200
TZNAME:CEST
DTSTART:20150329T010000
END:DAYLIGHT
BEGIN:STANDARD
TZOFFSETFROM:+0200
TZOFFSETTO:+0100
TZNAME:CET
DTSTART:20151025T010000
END:STANDARD
BEGIN:DAYLIGHT
TZOFFSETFROM:+0100
TZOFFSETTO:+0200
TZNAME:CEST
DTSTART:20160327T010000
END:DAYLIGHT
BEGIN:STANDARD
TZOFFSETFROM:+0200
TZOFFSETTO:+0100
TZNAME:CET
DTSTART:20161030T010000
END:STANDARD
BEGIN:DAYLIGHT
TZOFFSETFROM:+0100
TZOFFSETTO:+0200
TZNAME:CEST
DTSTART:20170326T010000
END:DAYLIGHT
BEGIN:STANDARD
TZOFFSETFROM:+0200
TZOFFSETTO:+0100
TZNAME:CET
DTSTART:20171029T010000
END:STANDARD
END:VTIMEZONE
BEGIN:VEVENT
DTSTART;VALUE=DATE:20161112
DTEND;VALUE=DATE:20161113
DTSTAMP:20260426T011444
CREATED:20250218T132742Z
LAST-MODIFIED:20250218T132742Z
UID:6390-1478908800-1478995199@mort-bend.com
SUMMARY:Moto susret ˝Nema presinga˝
DESCRIPTION:
URL:https://mort-bend.com/koncert/moto-susret-%cb%9dnema-presinga%cb%9d/
END:VEVENT
BEGIN:VEVENT
DTSTART;VALUE=DATE:20161107
DTEND;VALUE=DATE:20161108
DTSTAMP:20260426T011444
CREATED:20250218T132741Z
LAST-MODIFIED:20250218T132741Z
UID:6391-1478476800-1478563199@mort-bend.com
SUMMARY:Montenegro pub
DESCRIPTION:
URL:https://mort-bend.com/koncert/montenegro-pub-2/
END:VEVENT
BEGIN:VEVENT
DTSTART;VALUE=DATE:20161106
DTEND;VALUE=DATE:20161107
DTSTAMP:20260426T011444
CREATED:20250218T132743Z
LAST-MODIFIED:20250218T132743Z
UID:6392-1478390400-1478476799@mort-bend.com
SUMMARY:NK Pub
DESCRIPTION:
URL:https://mort-bend.com/koncert/nk-pub-2/
END:VEVENT
BEGIN:VEVENT
DTSTART;VALUE=DATE:20161105
DTEND;VALUE=DATE:20161106
DTSTAMP:20260426T011444
CREATED:20250218T132743Z
LAST-MODIFIED:20250218T132743Z
UID:6393-1478304000-1478390399@mort-bend.com
SUMMARY:Dom omladine
DESCRIPTION:
URL:https://mort-bend.com/koncert/dom-omladine/
END:VEVENT
BEGIN:VEVENT
DTSTART;VALUE=DATE:20161029
DTEND;VALUE=DATE:20161030
DTSTAMP:20260426T011444
CREATED:20250218T132742Z
LAST-MODIFIED:20250218T132742Z
UID:6394-1477699200-1477785599@mort-bend.com
SUMMARY:MC Headstone Clubhouse
DESCRIPTION:
URL:https://mort-bend.com/koncert/mc-headstone-clubhouse/
END:VEVENT
BEGIN:VEVENT
DTSTART;VALUE=DATE:20161007
DTEND;VALUE=DATE:20161008
DTSTAMP:20260426T011444
CREATED:20250218T132742Z
LAST-MODIFIED:20250218T132742Z
UID:6395-1475798400-1475884799@mort-bend.com
SUMMARY:Tvornica
DESCRIPTION:
URL:https://mort-bend.com/koncert/tvornica/
END:VEVENT
BEGIN:VEVENT
DTSTART;VALUE=DATE:20160827
DTEND;VALUE=DATE:20160828
DTSTAMP:20260426T011444
CREATED:20250218T132743Z
LAST-MODIFIED:20250218T132743Z
UID:6396-1472256000-1472342399@mort-bend.com
SUMMARY:Craft Beer Festival
DESCRIPTION:
URL:https://mort-bend.com/koncert/craft-beer-festival/
END:VEVENT
BEGIN:VEVENT
DTSTART;VALUE=DATE:20160819
DTEND;VALUE=DATE:20160820
DTSTAMP:20260426T011444
CREATED:20250218T132743Z
LAST-MODIFIED:20250218T132743Z
UID:6397-1471564800-1471651199@mort-bend.com
SUMMARY:Hoomstock
DESCRIPTION:
URL:https://mort-bend.com/koncert/hoomstock-2/
LOCATION:Hum na Sutli
END:VEVENT
BEGIN:VEVENT
DTSTART;VALUE=DATE:20160817
DTEND;VALUE=DATE:20160818
DTSTAMP:20260426T011444
CREATED:20250218T132743Z
LAST-MODIFIED:20250218T132743Z
UID:6398-1471392000-1471478399@mort-bend.com
SUMMARY:Evergreen Fest
DESCRIPTION:
URL:https://mort-bend.com/koncert/evergreen-fest-2/
END:VEVENT
BEGIN:VEVENT
DTSTART;VALUE=DATE:20160813
DTEND;VALUE=DATE:20160814
DTSTAMP:20260426T011444
CREATED:20250218T132743Z
LAST-MODIFIED:20250218T132743Z
UID:6399-1471046400-1471132799@mort-bend.com
SUMMARY:Kaštelanske Rock večeri
DESCRIPTION:
URL:https://mort-bend.com/koncert/kastelanske-rock-veceri-2/
END:VEVENT
BEGIN:VEVENT
DTSTART;VALUE=DATE:20160812
DTEND;VALUE=DATE:20160813
DTSTAMP:20260426T011444
CREATED:20250218T132743Z
LAST-MODIFIED:20250218T132743Z
UID:6400-1470960000-1471046399@mort-bend.com
SUMMARY:Lake Fest
DESCRIPTION:
URL:https://mort-bend.com/koncert/lake-fest/
END:VEVENT
BEGIN:VEVENT
DTSTART;VALUE=DATE:20160811
DTEND;VALUE=DATE:20160812
DTSTAMP:20260426T011444
CREATED:20250218T132743Z
LAST-MODIFIED:20250218T132743Z
UID:6401-1470873600-1470959999@mort-bend.com
SUMMARY:Šakan Fest
DESCRIPTION:
URL:https://mort-bend.com/koncert/sakan-fest/
END:VEVENT
BEGIN:VEVENT
DTSTART;VALUE=DATE:20160805
DTEND;VALUE=DATE:20160806
DTSTAMP:20260426T011444
CREATED:20250218T132744Z
LAST-MODIFIED:20250218T132744Z
UID:6402-1470355200-1470441599@mort-bend.com
SUMMARY:Memorijal Stipe Čambe
DESCRIPTION:
URL:https://mort-bend.com/koncert/memorijal-stipe-cambe/
END:VEVENT
BEGIN:VEVENT
DTSTART;VALUE=DATE:20160804
DTEND;VALUE=DATE:20160805
DTSTAMP:20260426T011444
CREATED:20250218T132744Z
LAST-MODIFIED:20250218T132744Z
UID:6403-1470268800-1470355199@mort-bend.com
SUMMARY:Ferragosto Jam
DESCRIPTION:
URL:https://mort-bend.com/koncert/ferragosto-jam-3/
END:VEVENT
BEGIN:VEVENT
DTSTART;VALUE=DATE:20160731
DTEND;VALUE=DATE:20160801
DTSTAMP:20260426T011444
CREATED:20250218T132744Z
LAST-MODIFIED:20250218T132744Z
UID:6404-1469923200-1470009599@mort-bend.com
SUMMARY:Festival Srce Sunca
DESCRIPTION:
URL:https://mort-bend.com/koncert/festival-srce-sunca/
END:VEVENT
BEGIN:VEVENT
DTSTART;VALUE=DATE:20160730
DTEND;VALUE=DATE:20160731
DTSTAMP:20260426T011444
CREATED:20250218T132744Z
LAST-MODIFIED:20250218T132744Z
UID:6405-1469836800-1469923199@mort-bend.com
SUMMARY:Regius
DESCRIPTION:
URL:https://mort-bend.com/koncert/regius/
END:VEVENT
BEGIN:VEVENT
DTSTART;VALUE=DATE:20160729
DTEND;VALUE=DATE:20160730
DTSTAMP:20260426T011444
CREATED:20250218T132744Z
LAST-MODIFIED:20250218T132744Z
UID:6406-1469750400-1469836799@mort-bend.com
SUMMARY:Tam Tam
DESCRIPTION:
URL:https://mort-bend.com/koncert/tam-tam/
END:VEVENT
BEGIN:VEVENT
DTSTART;VALUE=DATE:20160723
DTEND;VALUE=DATE:20160724
DTSTAMP:20260426T011444
CREATED:20250218T132744Z
LAST-MODIFIED:20250218T132744Z
UID:6407-1469232000-1469318399@mort-bend.com
SUMMARY:SARS festival
DESCRIPTION:
URL:https://mort-bend.com/koncert/sars-festival-4/
END:VEVENT
BEGIN:VEVENT
DTSTART;VALUE=DATE:20160713
DTEND;VALUE=DATE:20160714
DTSTAMP:20260426T011444
CREATED:20250218T132744Z
LAST-MODIFIED:20250218T132744Z
UID:6408-1468368000-1468454399@mort-bend.com
SUMMARY:Arla festival
DESCRIPTION:
URL:https://mort-bend.com/koncert/arla-festival/
END:VEVENT
BEGIN:VEVENT
DTSTART;VALUE=DATE:20160709
DTEND;VALUE=DATE:20160710
DTSTAMP:20260426T011444
CREATED:20250218T132744Z
LAST-MODIFIED:20250218T132744Z
UID:6409-1468022400-1468108799@mort-bend.com
SUMMARY:Gospić
DESCRIPTION:
URL:https://mort-bend.com/koncert/gospic/
END:VEVENT
BEGIN:VEVENT
DTSTART;VALUE=DATE:20160625
DTEND;VALUE=DATE:20160626
DTSTAMP:20260426T011444
CREATED:20250218T132744Z
LAST-MODIFIED:20250218T132744Z
UID:6410-1466812800-1466899199@mort-bend.com
SUMMARY:o’Hara
DESCRIPTION:
URL:https://mort-bend.com/koncert/ohara-3/
END:VEVENT
BEGIN:VEVENT
DTSTART;VALUE=DATE:20160618
DTEND;VALUE=DATE:20160619
DTSTAMP:20260426T011444
CREATED:20250218T132744Z
LAST-MODIFIED:20250218T132744Z
UID:6411-1466208000-1466294399@mort-bend.com
SUMMARY:Benkovac
DESCRIPTION:
URL:https://mort-bend.com/koncert/benkovac-3/
END:VEVENT
BEGIN:VEVENT
DTSTART;VALUE=DATE:20160611
DTEND;VALUE=DATE:20160612
DTSTAMP:20260426T011444
CREATED:20250218T132744Z
LAST-MODIFIED:20250218T132744Z
UID:6412-1465603200-1465689599@mort-bend.com
SUMMARY:Picigin bar
DESCRIPTION:
URL:https://mort-bend.com/koncert/picigin-bar/
END:VEVENT
BEGIN:VEVENT
DTSTART;VALUE=DATE:20160604
DTEND;VALUE=DATE:20160605
DTSTAMP:20260426T011444
CREATED:20250218T132744Z
LAST-MODIFIED:20250218T132744Z
UID:6413-1464998400-1465084799@mort-bend.com
SUMMARY:Sisak
DESCRIPTION:
URL:https://mort-bend.com/koncert/sisak/
END:VEVENT
BEGIN:VEVENT
DTSTART;VALUE=DATE:20160528
DTEND;VALUE=DATE:20160529
DTSTAMP:20260426T011444
CREATED:20250218T132744Z
LAST-MODIFIED:20250218T132744Z
UID:6414-1464393600-1464479999@mort-bend.com
SUMMARY:Gljevstock
DESCRIPTION:
URL:https://mort-bend.com/koncert/gljevstock-5/
END:VEVENT
BEGIN:VEVENT
DTSTART;VALUE=DATE:20160520
DTEND;VALUE=DATE:20160521
DTSTAMP:20260426T011444
CREATED:20250218T132745Z
LAST-MODIFIED:20250218T132745Z
UID:6415-1463702400-1463788799@mort-bend.com
SUMMARY:Rođendan radija 101
DESCRIPTION:
URL:https://mort-bend.com/koncert/rodendan-radija-101/
END:VEVENT
BEGIN:VEVENT
DTSTART;VALUE=DATE:20160514
DTEND;VALUE=DATE:20160515
DTSTAMP:20260426T011444
CREATED:20250218T132745Z
LAST-MODIFIED:20250218T132745Z
UID:6416-1463184000-1463270399@mort-bend.com
SUMMARY:Puž
DESCRIPTION:
URL:https://mort-bend.com/koncert/puz-2/
END:VEVENT
BEGIN:VEVENT
DTSTART;VALUE=DATE:20160507
DTEND;VALUE=DATE:20160508
DTSTAMP:20260426T011444
CREATED:20250218T132746Z
LAST-MODIFIED:20250218T132746Z
UID:6417-1462579200-1462665599@mort-bend.com
SUMMARY:OKC Abrašević
DESCRIPTION:
URL:https://mort-bend.com/koncert/okc-abrasevic-3/
END:VEVENT
BEGIN:VEVENT
DTSTART;VALUE=DATE:20160506
DTEND;VALUE=DATE:20160507
DTSTAMP:20260426T011444
CREATED:20250218T132746Z
LAST-MODIFIED:20250218T132746Z
UID:6418-1462492800-1462579199@mort-bend.com
SUMMARY:AG klub
DESCRIPTION:
URL:https://mort-bend.com/koncert/ag-klub/
END:VEVENT
BEGIN:VEVENT
DTSTART;VALUE=DATE:20160409
DTEND;VALUE=DATE:20160410
DTSTAMP:20260426T011444
CREATED:20250218T132752Z
LAST-MODIFIED:20250218T132752Z
UID:6419-1460160000-1460246399@mort-bend.com
SUMMARY:Hangar bar
DESCRIPTION:
URL:https://mort-bend.com/koncert/hangar-bar/
END:VEVENT
END:VCALENDAR