BEGIN:VCALENDAR
VERSION:2.0
PRODID:-//M.O.R.T. - ECPv6.15.11//NONSGML v1.0//EN
CALSCALE:GREGORIAN
METHOD:PUBLISH
X-ORIGINAL-URL:https://mort-bend.com
X-WR-CALDESC:Događaji za M.O.R.T.
REFRESH-INTERVAL;VALUE=DURATION:PT1H
X-Robots-Tag:noindex
X-PUBLISHED-TTL:PT1H
BEGIN:VTIMEZONE
TZID:Europe/Zagreb
BEGIN:DAYLIGHT
TZOFFSETFROM:+0100
TZOFFSETTO:+0200
TZNAME:CEST
DTSTART:20230326T010000
END:DAYLIGHT
BEGIN:STANDARD
TZOFFSETFROM:+0200
TZOFFSETTO:+0100
TZNAME:CET
DTSTART:20231029T010000
END:STANDARD
BEGIN:DAYLIGHT
TZOFFSETFROM:+0100
TZOFFSETTO:+0200
TZNAME:CEST
DTSTART:20240331T010000
END:DAYLIGHT
BEGIN:STANDARD
TZOFFSETFROM:+0200
TZOFFSETTO:+0100
TZNAME:CET
DTSTART:20241027T010000
END:STANDARD
BEGIN:DAYLIGHT
TZOFFSETFROM:+0100
TZOFFSETTO:+0200
TZNAME:CEST
DTSTART:20250330T010000
END:DAYLIGHT
BEGIN:STANDARD
TZOFFSETFROM:+0200
TZOFFSETTO:+0100
TZNAME:CET
DTSTART:20251026T010000
END:STANDARD
BEGIN:DAYLIGHT
TZOFFSETFROM:+0100
TZOFFSETTO:+0200
TZNAME:CEST
DTSTART:20260329T010000
END:DAYLIGHT
BEGIN:STANDARD
TZOFFSETFROM:+0200
TZOFFSETTO:+0100
TZNAME:CET
DTSTART:20261025T010000
END:STANDARD
END:VTIMEZONE
BEGIN:VEVENT
DTSTART;VALUE=DATE:20250628
DTEND;VALUE=DATE:20250629
DTSTAMP:20260424T175449
CREATED:20250526T111120Z
LAST-MODIFIED:20250526T111120Z
UID:6719-1751068800-1751155199@mort-bend.com
SUMMARY:Brundanje - Pivnica Medvedgrad
DESCRIPTION:
URL:https://mort-bend.com/koncert/brundanje-pivnica-medvedgrad/
LOCATION:Zagreb\, Zagreb
END:VEVENT
BEGIN:VEVENT
DTSTART;VALUE=DATE:20250620
DTEND;VALUE=DATE:20250621
DTSTAMP:20260424T175449
CREATED:20250526T110944Z
LAST-MODIFIED:20250526T110944Z
UID:6717-1750377600-1750463999@mort-bend.com
SUMMARY:Lepi Dečki
DESCRIPTION:
URL:https://mort-bend.com/koncert/lepi-decki/
LOCATION:Čakovec
END:VEVENT
BEGIN:VEVENT
DTSTART;VALUE=DATE:20250503
DTEND;VALUE=DATE:20250504
DTSTAMP:20260424T175449
CREATED:20250417T065028Z
LAST-MODIFIED:20250417T065147Z
UID:6708-1746230400-1746316799@mort-bend.com
SUMMARY:Bergamovo
DESCRIPTION:
URL:https://mort-bend.com/koncert/sibenik-bergamovo/
LOCATION:Šibenik
END:VEVENT
BEGIN:VEVENT
DTSTART;VALUE=DATE:20250405
DTEND;VALUE=DATE:20250406
DTSTAMP:20260424T175449
CREATED:20250204T052240Z
LAST-MODIFIED:20250204T052240Z
UID:5785-1743811200-1743897599@mort-bend.com
SUMMARY:Split Porat
DESCRIPTION:
URL:https://mort-bend.com/koncert/split-porat/
LOCATION:Split
END:VEVENT
BEGIN:VEVENT
DTSTART;VALUE=DATE:20250222
DTEND;VALUE=DATE:20250223
DTSTAMP:20260424T175449
CREATED:20241217T154119Z
LAST-MODIFIED:20241217T154119Z
UID:5779-1740182400-1740268799@mort-bend.com
SUMMARY:Zagreb Boogaloo
DESCRIPTION:
URL:https://mort-bend.com/koncert/zagreb-boogaloo/
LOCATION:Zagreb\, Zagreb
END:VEVENT
BEGIN:VEVENT
DTSTART;VALUE=DATE:20250215
DTEND;VALUE=DATE:20250216
DTSTAMP:20260424T175449
CREATED:20250204T052112Z
LAST-MODIFIED:20250204T052112Z
UID:5782-1739577600-1739663999@mort-bend.com
SUMMARY:Benkovac
DESCRIPTION:
URL:https://mort-bend.com/koncert/benkovac/
LOCATION:Benkovac
END:VEVENT
BEGIN:VEVENT
DTSTART;VALUE=DATE:20250207
DTEND;VALUE=DATE:20250208
DTSTAMP:20260424T175449
CREATED:20241217T154033Z
LAST-MODIFIED:20241217T154033Z
UID:5775-1738886400-1738972799@mort-bend.com
SUMMARY:Podgorica Rockstrikcija
DESCRIPTION:
URL:https://mort-bend.com/koncert/podgorica-rockstrikcija/
LOCATION:Podgorica
END:VEVENT
BEGIN:VEVENT
DTSTART;VALUE=DATE:20241221
DTEND;VALUE=DATE:20241222
DTSTAMP:20260424T175449
CREATED:20241121T052914Z
LAST-MODIFIED:20241121T052914Z
UID:5771-1734739200-1734825599@mort-bend.com
SUMMARY:Split Zvončac
DESCRIPTION:
URL:https://mort-bend.com/koncert/split-zvoncac/
END:VEVENT
BEGIN:VEVENT
DTSTART;VALUE=DATE:20241214
DTEND;VALUE=DATE:20241215
DTSTAMP:20260424T175449
CREATED:20241121T052853Z
LAST-MODIFIED:20241121T052853Z
UID:5769-1734134400-1734220799@mort-bend.com
SUMMARY:Koprivnica Funk
DESCRIPTION:
URL:https://mort-bend.com/koncert/koprivnica-funk/
END:VEVENT
BEGIN:VEVENT
DTSTART;VALUE=DATE:20241213
DTEND;VALUE=DATE:20241214
DTSTAMP:20260424T175449
CREATED:20241121T052820Z
LAST-MODIFIED:20241121T052820Z
UID:5767-1734048000-1734134399@mort-bend.com
SUMMARY:Ploče
DESCRIPTION:
URL:https://mort-bend.com/koncert/ploce/
END:VEVENT
BEGIN:VEVENT
DTSTART;VALUE=DATE:20241206
DTEND;VALUE=DATE:20241207
DTSTAMP:20260424T175449
CREATED:20241121T052650Z
LAST-MODIFIED:20241121T052650Z
UID:5763-1733443200-1733529599@mort-bend.com
SUMMARY:Beograd Rakija Festival
DESCRIPTION:
URL:https://mort-bend.com/koncert/beograd-rakija-festival/
LOCATION:Beograd
END:VEVENT
BEGIN:VEVENT
DTSTART;VALUE=DATE:20241102
DTEND;VALUE=DATE:20241103
DTSTAMP:20260424T175449
CREATED:20241018T075053Z
LAST-MODIFIED:20241018T075053Z
UID:5760-1730505600-1730591999@mort-bend.com
SUMMARY:Azimut Šibenik
DESCRIPTION:
URL:https://mort-bend.com/koncert/azimut-sibenik/
END:VEVENT
BEGIN:VEVENT
DTSTART;VALUE=DATE:20241026
DTEND;VALUE=DATE:20241027
DTSTAMP:20260424T175449
CREATED:20241018T074933Z
LAST-MODIFIED:20241018T074933Z
UID:5757-1729900800-1729987199@mort-bend.com
SUMMARY:Prostor Čakovec
DESCRIPTION:
URL:https://mort-bend.com/koncert/prostor-cakovec/
LOCATION:Čakovec
END:VEVENT
BEGIN:VEVENT
DTSTART;VALUE=DATE:20241004
DTEND;VALUE=DATE:20241005
DTSTAMP:20260424T175449
CREATED:20241018T074827Z
LAST-MODIFIED:20241018T074827Z
UID:5755-1728000000-1728086399@mort-bend.com
SUMMARY:XStatic Split
DESCRIPTION:
URL:https://mort-bend.com/koncert/xstatic-split/
LOCATION:Split
END:VEVENT
BEGIN:VEVENT
DTSTART;VALUE=DATE:20241003
DTEND;VALUE=DATE:20241004
DTSTAMP:20260424T175449
CREATED:20240905T161249Z
LAST-MODIFIED:20240905T161249Z
UID:5750-1727913600-1727999999@mort-bend.com
SUMMARY:Biograd na Moru - Festival kulture i komunikacija
DESCRIPTION:
URL:https://mort-bend.com/koncert/biograd-na-moru-festival-kulture-i-komunikacija/
END:VEVENT
BEGIN:VEVENT
DTSTART;VALUE=DATE:20240921
DTEND;VALUE=DATE:20240922
DTSTAMP:20260424T175449
CREATED:20240905T161046Z
LAST-MODIFIED:20240905T161046Z
UID:5747-1726876800-1726963199@mort-bend.com
SUMMARY:Makarska - Modro i zeleno
DESCRIPTION:
URL:https://mort-bend.com/koncert/makarska-modro-i-zeleno/
LOCATION:Makarska
END:VEVENT
BEGIN:VEVENT
DTSTART;VALUE=DATE:20240831
DTEND;VALUE=DATE:20240901
DTSTAMP:20260424T175449
CREATED:20240819T123837Z
LAST-MODIFIED:20240819T123837Z
UID:5738-1725062400-1725148799@mort-bend.com
SUMMARY:UFO - Urban Fest Osijek
DESCRIPTION:
URL:https://mort-bend.com/koncert/ufo-urban-fest-osijek/
LOCATION:Osijek\, Tvrđa\, Osijek\, Croatia (Local Name: Hrvatska)
ATTACH;FMTTYPE=image/jpeg:https://mort-bend.com/wp-content/uploads/2024/08/ufo.jpg
END:VEVENT
BEGIN:VEVENT
DTSTART;VALUE=DATE:20240824
DTEND;VALUE=DATE:20240825
DTSTAMP:20260424T175449
CREATED:20240819T121908Z
LAST-MODIFIED:20240819T121908Z
UID:5733-1724457600-1724543999@mort-bend.com
SUMMARY:Špancirfest
DESCRIPTION:
URL:https://mort-bend.com/koncert/spancirfest/
LOCATION:Špancirfest\, Stari Grad\, Pan pozornica\, Varaždin
ATTACH;FMTTYPE=image/jpeg:https://mort-bend.com/wp-content/uploads/2024/08/span.jpg
END:VEVENT
BEGIN:VEVENT
DTSTART;VALUE=DATE:20240823
DTEND;VALUE=DATE:20240824
DTSTAMP:20260424T175449
CREATED:20240819T115618Z
LAST-MODIFIED:20240819T115618Z
UID:5728-1724371200-1724457599@mort-bend.com
SUMMARY:Riječka Zvečka
DESCRIPTION:
URL:https://mort-bend.com/koncert/rijecka-zvecka/
LOCATION:Podvežica Rijeka\, Franje Matakovića 1a\, Rijeka\, Croatia (Local Name: Hrvatska)
ATTACH;FMTTYPE=image/jpeg:https://mort-bend.com/wp-content/uploads/2024/08/zvecka.jpg
END:VEVENT
BEGIN:VEVENT
DTSTART;VALUE=DATE:20240817
DTEND;VALUE=DATE:20240818
DTSTAMP:20260424T175449
CREATED:20240729T074802Z
LAST-MODIFIED:20240729T074802Z
UID:5723-1723852800-1723939199@mort-bend.com
SUMMARY:M.O.R.T. i Artan Lili na Orsuli
DESCRIPTION:
URL:https://mort-bend.com/koncert/m-o-r-t-i-artan-lili-na-orsuli/
LOCATION:Dubrovnik\, Park Orsula\, Dubrovnik
END:VEVENT
BEGIN:VEVENT
DTSTART;VALUE=DATE:20240815
DTEND;VALUE=DATE:20240816
DTSTAMP:20260424T175449
CREATED:20240729T074507Z
LAST-MODIFIED:20240729T074507Z
UID:5720-1723680000-1723766399@mort-bend.com
SUMMARY:Lastovo otok glazbe
DESCRIPTION:
URL:https://mort-bend.com/koncert/lastovo-otok-glazbe/
LOCATION:Lastovo\, Uvala Sv. Mihovila\, Lastovo
END:VEVENT
BEGIN:VEVENT
DTSTART;VALUE=DATE:20240810
DTEND;VALUE=DATE:20240811
DTSTAMP:20260424T175449
CREATED:20240729T073623Z
LAST-MODIFIED:20240729T073647Z
UID:5715-1723248000-1723334399@mort-bend.com
SUMMARY:Našice Craft Beer Fest
DESCRIPTION:
URL:https://mort-bend.com/koncert/nasice-craft-beer-fest/
LOCATION:Našice\, Trg dr. Franje Tuđmana\, Našice
ATTACH;FMTTYPE=image/jpeg:https://mort-bend.com/wp-content/uploads/2024/07/nasice.jpg
END:VEVENT
BEGIN:VEVENT
DTSTART;VALUE=DATE:20240803
DTEND;VALUE=DATE:20240804
DTSTAMP:20260424T175449
CREATED:20240719T101656Z
LAST-MODIFIED:20240719T101656Z
UID:5709-1722643200-1722729599@mort-bend.com
SUMMARY:Moto Susret Vukovi
DESCRIPTION:
URL:https://mort-bend.com/koncert/moto-susret-vukovi/
LOCATION:Livno\, MK Vukovi\, Livno\, Bosnia and Herzegovina
ATTACH;FMTTYPE=image/jpeg:https://mort-bend.com/wp-content/uploads/2024/07/mk-vukovi-livno-24.jpeg
END:VEVENT
BEGIN:VEVENT
DTSTART;VALUE=DATE:20240727
DTEND;VALUE=DATE:20240728
DTSTAMP:20260424T175449
CREATED:20240719T100924Z
LAST-MODIFIED:20240719T100924Z
UID:5703-1722038400-1722124799@mort-bend.com
SUMMARY:Mudri brk festival
DESCRIPTION:
URL:https://mort-bend.com/koncert/mudri-brk-festival/
LOCATION:Ljetno Kino Jelsa\, Kino Mediteran\, Jelsa
END:VEVENT
BEGIN:VEVENT
DTSTART;VALUE=DATE:20240726
DTEND;VALUE=DATE:20240727
DTSTAMP:20260424T175449
CREATED:20240711T095421Z
LAST-MODIFIED:20240711T095421Z
UID:5698-1721952000-1722038399@mort-bend.com
SUMMARY:Rock Festival Šolta
DESCRIPTION:
URL:https://mort-bend.com/koncert/rock-festival-solta/
LOCATION:Šolta\, Park Đardin\, Grohote
END:VEVENT
BEGIN:VEVENT
DTSTART;VALUE=DATE:20240725
DTEND;VALUE=DATE:20240726
DTSTAMP:20260424T175449
CREATED:20240711T095220Z
LAST-MODIFIED:20240711T095220Z
UID:5695-1721865600-1721951999@mort-bend.com
SUMMARY:Kaledioskop Tuzla
DESCRIPTION:
URL:https://mort-bend.com/koncert/kaledioskop-tuzla/
LOCATION:Tuzla\, JKP Pannonica\, Tuzla
END:VEVENT
BEGIN:VEVENT
DTSTART;VALUE=DATE:20240721
DTEND;VALUE=DATE:20240722
DTSTAMP:20260424T175449
CREATED:20240527T135507Z
LAST-MODIFIED:20240701T123716Z
UID:5319-1721520000-1721606399@mort-bend.com
SUMMARY:OK Fest
DESCRIPTION:
URL:https://mort-bend.com/koncert/ok-fest/
LOCATION:Tjentište\, OK Stage\, Foča\, Bosnia and Herzegovina
END:VEVENT
BEGIN:VEVENT
DTSTART;VALUE=DATE:20240720
DTEND;VALUE=DATE:20240721
DTSTAMP:20260424T175449
CREATED:20240711T094459Z
LAST-MODIFIED:20240711T094459Z
UID:5692-1721433600-1721519999@mort-bend.com
SUMMARY:Derivat festival Ražanac
DESCRIPTION:
URL:https://mort-bend.com/koncert/derivat-festival-razanac/
LOCATION:Ražanac\, Rtina Miletići\, Ražanac
END:VEVENT
BEGIN:VEVENT
DTSTART;VALUE=DATE:20240713
DTEND;VALUE=DATE:20240714
DTSTAMP:20260424T175449
CREATED:20240626T095603Z
LAST-MODIFIED:20240626T095603Z
UID:5674-1720828800-1720915199@mort-bend.com
SUMMARY:TamTam Festival
DESCRIPTION:
URL:https://mort-bend.com/koncert/tamtam-festival/
LOCATION:Sućuraj
END:VEVENT
BEGIN:VEVENT
DTSTART;VALUE=DATE:20240706
DTEND;VALUE=DATE:20240707
DTSTAMP:20260424T175449
CREATED:20240701T122034Z
LAST-MODIFIED:20240701T122034Z
UID:5685-1720224000-1720310399@mort-bend.com
SUMMARY:Only Hops & Horses
DESCRIPTION:Prvi ‘Only hops & horses’ održat će se na hipodromu Sinj 5. i 6. srpnja\, a u ponudi će biti preko 20 vrsta craft piva od sedam različitih pivovara\, ujedno članica UDP-a (Barilo\, Familija\, Prostor\, Mandrillo\, Kninska\, Sinjska\, TapB). \n \nZa hranu će se pobrinuti ‘Domaći uštipak Barba Edo’ te fast food ‘Kod Ante’\, tako da će se moći kupiti više vrsta uštipaka te street food poput burgera\, pommes fritesa\, ćevapčića\, sendviča… \nZa glazbu će biti zadužen DJ Vjeko Liksonix\, a kao glavni akteri večeri nastupaju u petak Ljuta kuća\, a u subotu Radagast i M.O.R.T.
URL:https://mort-bend.com/koncert/only-hops-horses/
LOCATION:Sinj\, Put Piketa 43\, Sinj
END:VEVENT
END:VCALENDAR