BEGIN:VCALENDAR
VERSION:2.0
PRODID:-//M.O.R.T. - ECPv6.15.11//NONSGML v1.0//EN
CALSCALE:GREGORIAN
METHOD:PUBLISH
X-WR-CALNAME:M.O.R.T.
X-ORIGINAL-URL:https://mort-bend.com
X-WR-CALDESC:Događaji za M.O.R.T.
REFRESH-INTERVAL;VALUE=DURATION:PT1H
X-Robots-Tag:noindex
X-PUBLISHED-TTL:PT1H
BEGIN:VTIMEZONE
TZID:Europe/Zagreb
BEGIN:DAYLIGHT
TZOFFSETFROM:+0100
TZOFFSETTO:+0200
TZNAME:CEST
DTSTART:20160327T010000
END:DAYLIGHT
BEGIN:STANDARD
TZOFFSETFROM:+0200
TZOFFSETTO:+0100
TZNAME:CET
DTSTART:20161030T010000
END:STANDARD
BEGIN:DAYLIGHT
TZOFFSETFROM:+0100
TZOFFSETTO:+0200
TZNAME:CEST
DTSTART:20170326T010000
END:DAYLIGHT
BEGIN:STANDARD
TZOFFSETFROM:+0200
TZOFFSETTO:+0100
TZNAME:CET
DTSTART:20171029T010000
END:STANDARD
BEGIN:DAYLIGHT
TZOFFSETFROM:+0100
TZOFFSETTO:+0200
TZNAME:CEST
DTSTART:20180325T010000
END:DAYLIGHT
BEGIN:STANDARD
TZOFFSETFROM:+0200
TZOFFSETTO:+0100
TZNAME:CET
DTSTART:20181028T010000
END:STANDARD
BEGIN:DAYLIGHT
TZOFFSETFROM:+0100
TZOFFSETTO:+0200
TZNAME:CEST
DTSTART:20190331T010000
END:DAYLIGHT
BEGIN:STANDARD
TZOFFSETFROM:+0200
TZOFFSETTO:+0100
TZNAME:CET
DTSTART:20191027T010000
END:STANDARD
END:VTIMEZONE
BEGIN:VEVENT
DTSTART;VALUE=DATE:20180816
DTEND;VALUE=DATE:20180817
DTSTAMP:20260425T133946
CREATED:20250218T155916Z
LAST-MODIFIED:20250218T155916Z
UID:6562-1534377600-1534463999@mort-bend.com
SUMMARY:Underground Rock Festival
DESCRIPTION:
URL:https://mort-bend.com/koncert/underground-rock-festival/
END:VEVENT
BEGIN:VEVENT
DTSTART;VALUE=DATE:20180815
DTEND;VALUE=DATE:20180816
DTSTAMP:20260425T133946
CREATED:20250218T155916Z
LAST-MODIFIED:20250218T155916Z
UID:6563-1534291200-1534377599@mort-bend.com
SUMMARY:Beer Fest
DESCRIPTION:
URL:https://mort-bend.com/koncert/beer-fest/
END:VEVENT
BEGIN:VEVENT
DTSTART;VALUE=DATE:20180811
DTEND;VALUE=DATE:20180812
DTSTAMP:20260425T133946
CREATED:20250218T155916Z
LAST-MODIFIED:20250218T155916Z
UID:6564-1533945600-1534031999@mort-bend.com
SUMMARY:Lake Fest
DESCRIPTION:
URL:https://mort-bend.com/koncert/lake-fest-2/
END:VEVENT
BEGIN:VEVENT
DTSTART;VALUE=DATE:20180725
DTEND;VALUE=DATE:20180726
DTSTAMP:20260425T133946
CREATED:20250218T155917Z
LAST-MODIFIED:20250218T155917Z
UID:6565-1532476800-1532563199@mort-bend.com
SUMMARY:Više r’n’r na obali mora
DESCRIPTION:
URL:https://mort-bend.com/koncert/vise-rnr-na-obali-mora/
END:VEVENT
BEGIN:VEVENT
DTSTART;VALUE=DATE:20180705
DTEND;VALUE=DATE:20180706
DTSTAMP:20260425T133946
CREATED:20250218T155917Z
LAST-MODIFIED:20250218T155917Z
UID:6566-1530748800-1530835199@mort-bend.com
SUMMARY:Tabor Film Festival
DESCRIPTION:
URL:https://mort-bend.com/koncert/tabor-film-festival-2/
END:VEVENT
BEGIN:VEVENT
DTSTART;VALUE=DATE:20180630
DTEND;VALUE=DATE:20180701
DTSTAMP:20260425T133946
CREATED:20250218T155917Z
LAST-MODIFIED:20250218T155917Z
UID:6567-1530316800-1530403199@mort-bend.com
SUMMARY:Cafe Artist\, Posušje
DESCRIPTION:
URL:https://mort-bend.com/koncert/cafe-artist-posusje/
END:VEVENT
BEGIN:VEVENT
DTSTART;VALUE=DATE:20180623
DTEND;VALUE=DATE:20180624
DTSTAMP:20260425T133946
CREATED:20250218T155917Z
LAST-MODIFIED:20250218T155917Z
UID:6568-1529712000-1529798399@mort-bend.com
SUMMARY:Pozdrav Suncu
DESCRIPTION:
URL:https://mort-bend.com/koncert/pozdrav-suncu/
END:VEVENT
BEGIN:VEVENT
DTSTART;VALUE=DATE:20180622
DTEND;VALUE=DATE:20180623
DTSTAMP:20260425T133946
CREATED:20250218T155916Z
LAST-MODIFIED:20250218T155916Z
UID:6569-1529625600-1529711999@mort-bend.com
SUMMARY:Fibra festival
DESCRIPTION:
URL:https://mort-bend.com/koncert/fibra-festival/
END:VEVENT
BEGIN:VEVENT
DTSTART;VALUE=DATE:20180609
DTEND;VALUE=DATE:20180610
DTSTAMP:20260425T133946
CREATED:20250218T155918Z
LAST-MODIFIED:20250218T155918Z
UID:6570-1528502400-1528588799@mort-bend.com
SUMMARY:Pivnica
DESCRIPTION:
URL:https://mort-bend.com/koncert/pivnica/
END:VEVENT
BEGIN:VEVENT
DTSTART;VALUE=DATE:20180607
DTEND;VALUE=DATE:20180608
DTSTAMP:20260425T133946
CREATED:20250218T155917Z
LAST-MODIFIED:20250218T155917Z
UID:6571-1528329600-1528415999@mort-bend.com
SUMMARY:BeeBop Cafe\, Plovdiv
DESCRIPTION:
URL:https://mort-bend.com/koncert/beebop-cafe-plovdiv/
END:VEVENT
BEGIN:VEVENT
DTSTART;VALUE=DATE:20180606
DTEND;VALUE=DATE:20180607
DTSTAMP:20260425T133946
CREATED:20250218T155917Z
LAST-MODIFIED:20250218T155917Z
UID:6572-1528243200-1528329599@mort-bend.com
SUMMARY:Pivnica Gustav\, Kragujevac
DESCRIPTION:
URL:https://mort-bend.com/koncert/pivnica-gustav-kragujevac/
END:VEVENT
BEGIN:VEVENT
DTSTART;VALUE=DATE:20180604
DTEND;VALUE=DATE:20180605
DTSTAMP:20260425T133946
CREATED:20250218T155917Z
LAST-MODIFIED:20250218T155917Z
UID:6573-1528070400-1528156799@mort-bend.com
SUMMARY:Elektropionir
DESCRIPTION:
URL:https://mort-bend.com/koncert/elektropionir-2/
END:VEVENT
BEGIN:VEVENT
DTSTART;VALUE=DATE:20180603
DTEND;VALUE=DATE:20180604
DTSTAMP:20260425T133946
CREATED:20250218T155917Z
LAST-MODIFIED:20250218T155917Z
UID:6574-1527984000-1528070399@mort-bend.com
SUMMARY:Buka pod Rumom
DESCRIPTION:
URL:https://mort-bend.com/koncert/buka-pod-rumom-2/
END:VEVENT
BEGIN:VEVENT
DTSTART;VALUE=DATE:20180602
DTEND;VALUE=DATE:20180603
DTSTAMP:20260425T133946
CREATED:20250218T155918Z
LAST-MODIFIED:20250218T155918Z
UID:6575-1527897600-1527983999@mort-bend.com
SUMMARY:Studio 11
DESCRIPTION:
URL:https://mort-bend.com/koncert/studio-11/
END:VEVENT
BEGIN:VEVENT
DTSTART;VALUE=DATE:20180601
DTEND;VALUE=DATE:20180602
DTSTAMP:20260425T133946
CREATED:20250218T155918Z
LAST-MODIFIED:20250218T155918Z
UID:6576-1527811200-1527897599@mort-bend.com
SUMMARY:Panonian Challenge
DESCRIPTION:
URL:https://mort-bend.com/koncert/panonian-challenge/
END:VEVENT
BEGIN:VEVENT
DTSTART;VALUE=DATE:20180526
DTEND;VALUE=DATE:20180527
DTSTAMP:20260425T133946
CREATED:20250218T155919Z
LAST-MODIFIED:20250218T155919Z
UID:6577-1527292800-1527379199@mort-bend.com
SUMMARY:5th Funeral Party
DESCRIPTION:
URL:https://mort-bend.com/koncert/5th-funeral-party/
END:VEVENT
BEGIN:VEVENT
DTSTART;VALUE=DATE:20180519
DTEND;VALUE=DATE:20180520
DTSTAMP:20260425T133946
CREATED:20250218T155918Z
LAST-MODIFIED:20250218T155918Z
UID:6578-1526688000-1526774399@mort-bend.com
SUMMARY:Zapruđe Open Air
DESCRIPTION:
URL:https://mort-bend.com/koncert/zaprude-open-air/
END:VEVENT
BEGIN:VEVENT
DTSTART;VALUE=DATE:20180512
DTEND;VALUE=DATE:20180513
DTSTAMP:20260425T133946
CREATED:20250218T155918Z
LAST-MODIFIED:20250218T155918Z
UID:6579-1526083200-1526169599@mort-bend.com
SUMMARY:OKC Abrašević\, Mostar
DESCRIPTION:
URL:https://mort-bend.com/koncert/okc-abrasevic-mostar/
END:VEVENT
BEGIN:VEVENT
DTSTART;VALUE=DATE:20180505
DTEND;VALUE=DATE:20180506
DTSTAMP:20260425T133946
CREATED:20250218T155919Z
LAST-MODIFIED:20250218T155919Z
UID:6580-1525478400-1525564799@mort-bend.com
SUMMARY:Soundcity Festival
DESCRIPTION:
URL:https://mort-bend.com/koncert/soundcity-festival/
END:VEVENT
BEGIN:VEVENT
DTSTART;VALUE=DATE:20180504
DTEND;VALUE=DATE:20180505
DTSTAMP:20260425T133946
CREATED:20250218T155919Z
LAST-MODIFIED:20250218T155919Z
UID:6581-1525392000-1525478399@mort-bend.com
SUMMARY:Zigrfried von Underbelly of Hoxton
DESCRIPTION:
URL:https://mort-bend.com/koncert/zigrfried-von-underbelly-of-hoxton/
END:VEVENT
BEGIN:VEVENT
DTSTART;VALUE=DATE:20180303
DTEND;VALUE=DATE:20180304
DTSTAMP:20260425T133946
CREATED:20250218T155919Z
LAST-MODIFIED:20250218T155919Z
UID:6582-1520035200-1520121599@mort-bend.com
SUMMARY:Mort I Hladno pivo
DESCRIPTION:
URL:https://mort-bend.com/koncert/mort-i-hladno-pivo/
END:VEVENT
BEGIN:VEVENT
DTSTART;VALUE=DATE:20180213
DTEND;VALUE=DATE:20180214
DTSTAMP:20260425T133946
CREATED:20250218T155919Z
LAST-MODIFIED:20250218T155919Z
UID:6583-1518480000-1518566399@mort-bend.com
SUMMARY:Fašnik
DESCRIPTION:
URL:https://mort-bend.com/koncert/fasnik/
END:VEVENT
BEGIN:VEVENT
DTSTART;VALUE=DATE:20180210
DTEND;VALUE=DATE:20180211
DTSTAMP:20260425T133946
CREATED:20250218T155919Z
LAST-MODIFIED:20250218T155919Z
UID:6584-1518220800-1518307199@mort-bend.com
SUMMARY:HotSpot
DESCRIPTION:
URL:https://mort-bend.com/koncert/hotspot/
END:VEVENT
BEGIN:VEVENT
DTSTART;VALUE=DATE:20180209
DTEND;VALUE=DATE:20180210
DTSTAMP:20260425T133946
CREATED:20250218T155920Z
LAST-MODIFIED:20250218T155920Z
UID:6585-1518134400-1518220799@mort-bend.com
SUMMARY:Judino drvo\, ST
DESCRIPTION:
URL:https://mort-bend.com/koncert/judino-drvo-st/
END:VEVENT
BEGIN:VEVENT
DTSTART;VALUE=DATE:20180201
DTEND;VALUE=DATE:20180202
DTSTAMP:20260425T133946
CREATED:20250218T155920Z
LAST-MODIFIED:20250218T155920Z
UID:6586-1517443200-1517529599@mort-bend.com
SUMMARY:MENT
DESCRIPTION:
URL:https://mort-bend.com/koncert/ment/
END:VEVENT
BEGIN:VEVENT
DTSTART;VALUE=DATE:20180126
DTEND;VALUE=DATE:20180127
DTSTAMP:20260425T133946
CREATED:20250218T155919Z
LAST-MODIFIED:20250218T155919Z
UID:6587-1516924800-1517011199@mort-bend.com
SUMMARY:Noć muzeja
DESCRIPTION:
URL:https://mort-bend.com/koncert/noc-muzeja/
END:VEVENT
BEGIN:VEVENT
DTSTART;VALUE=DATE:20180119
DTEND;VALUE=DATE:20180120
DTSTAMP:20260425T133946
CREATED:20250218T155919Z
LAST-MODIFIED:20250218T155919Z
UID:6588-1516320000-1516406399@mort-bend.com
SUMMARY:Brijačnica
DESCRIPTION:
URL:https://mort-bend.com/koncert/brijacnica-3/
END:VEVENT
BEGIN:VEVENT
DTSTART;VALUE=DATE:20180105
DTEND;VALUE=DATE:20180106
DTSTAMP:20260425T133946
CREATED:20250218T155919Z
LAST-MODIFIED:20250218T155919Z
UID:6589-1515110400-1515196799@mort-bend.com
SUMMARY:Škafić
DESCRIPTION:
URL:https://mort-bend.com/koncert/skafic/
END:VEVENT
BEGIN:VEVENT
DTSTART;VALUE=DATE:20171223
DTEND;VALUE=DATE:20171224
DTSTAMP:20260425T133946
CREATED:20250218T153414Z
LAST-MODIFIED:20250218T153414Z
UID:6476-1513987200-1514073599@mort-bend.com
SUMMARY:Vojarna
DESCRIPTION:
URL:https://mort-bend.com/koncert/vojarna-7/
END:VEVENT
BEGIN:VEVENT
DTSTART;VALUE=DATE:20171202
DTEND;VALUE=DATE:20171203
DTSTAMP:20260425T133946
CREATED:20250218T153419Z
LAST-MODIFIED:20250218T153419Z
UID:6477-1512172800-1512259199@mort-bend.com
SUMMARY:Banja Luka\, Gimnazijska sala
DESCRIPTION:
URL:https://mort-bend.com/koncert/banja-luka-gimnazijska-sala/
END:VEVENT
END:VCALENDAR